BEGIN:VCALENDAR
VERSION:2.0
PRODID:-//Seaview - ECPv6.15.20//NONSGML v1.0//EN
CALSCALE:GREGORIAN
METHOD:PUBLISH
X-ORIGINAL-URL:https://seaviewgcc.com
X-WR-CALDESC:Events for Seaview
REFRESH-INTERVAL;VALUE=DURATION:PT1H
X-Robots-Tag:noindex
X-PUBLISHED-TTL:PT1H
BEGIN:VTIMEZONE
TZID:UTC
BEGIN:STANDARD
TZOFFSETFROM:+0000
TZOFFSETTO:+0000
TZNAME:UTC
DTSTART:20220101T000000
END:STANDARD
END:VTIMEZONE
BEGIN:VEVENT
DTSTART;TZID=UTC:20230806T070000
DTEND;TZID=UTC:20230806T170000
DTSTAMP:20260423T072435
CREATED:20230801T232215Z
LAST-MODIFIED:20230802T162634Z
UID:4239-1691305200-1691341200@seaviewgcc.com
SUMMARY:Cape Breton Beverages Mens Club Championship Day 2
DESCRIPTION:
URL:https://seaviewgcc.com/event/cape-breton-beverages-mens-club-championship-day-2/
LOCATION:Seaview Golf & Country Club\, 370 Seaview Drive\, North Sydney\, Nova Scotia\, B2A 3N6\, Canada
CATEGORIES:Golf Events
ATTACH;FMTTYPE=image/jpeg:https://seaviewgcc.com/wp-content/uploads/2023/08/Seaview_Putter_Blog.jpg
ORGANIZER;CN="Seaview Golf & Country Club":MAILTO:seaviewgolf@outlook.com
END:VEVENT
END:VCALENDAR